BEGIN:VCALENDAR
VERSION:2.0
PRODID:spatie/icalendar-generator
DESCRIPTION:Veranstaltungen von IG BDS-Gruppe Kornwestheim
X-WR-CALDESC:Veranstaltungen von IG BDS-Gruppe Kornwestheim
REFRESH-INTERVAL;VALUE=DURATION:PT1440M
X-PUBLISHED-TTL:PT1440M
BEGIN:VTIMEZONE
TZID:Etc/GMT+0
BEGIN:STANDARD
DTSTART:20240920T193000Z
TZOFFSETFROM:+0000
TZOFFSETTO:+0000
END:STANDARD
END:VTIMEZONE
BEGIN:VTIMEZONE
TZID:UTC
BEGIN:STANDARD
DTSTART:20250729T113454Z
TZOFFSETFROM:+0000
TZOFFSETTO:+0000
END:STANDARD
END:VTIMEZONE
BEGIN:VEVENT
UID:29-29
DTSTAMP:20260425T113454Z
SUMMARY:IPSC
LOCATION:
ORGANIZER;CN=admin:MAILTO:igbdskheim@gmx.de
DTSTART;TZID=Etc/GMT+0:20250617T193000
DTEND;TZID=Etc/GMT+0:20250617T213000
X-ALT-DESC;FMTTYPE=TEXT/HTML:
CATEGORIES:General
URL;VALUE=URI:https://igbdsk.de/mc-events/ipsc-6/
METHOD:PUBLISH
END:VEVENT
END:VCALENDAR