BEGIN:VCALENDAR
VERSION:2.0
PRODID:spatie/icalendar-generator
DESCRIPTION:Veranstaltungen von IG BDS-Gruppe Kornwestheim
X-WR-CALDESC:Veranstaltungen von IG BDS-Gruppe Kornwestheim
REFRESH-INTERVAL;VALUE=DURATION:PT1440M
X-PUBLISHED-TTL:PT1440M
BEGIN:VTIMEZONE
TZID:Etc/GMT+0
BEGIN:STANDARD
DTSTART:20240823T193000Z
TZOFFSETFROM:+0000
TZOFFSETTO:+0000
END:STANDARD
END:VTIMEZONE
BEGIN:VTIMEZONE
TZID:UTC
BEGIN:STANDARD
DTSTART:20250729T202148Z
TZOFFSETFROM:+0000
TZOFFSETTO:+0000
END:STANDARD
END:VTIMEZONE
BEGIN:VEVENT
UID:26-26
DTSTAMP:20260425T202148Z
SUMMARY:IPSC
LOCATION:
ORGANIZER;CN=admin:MAILTO:igbdskheim@gmx.de
DTSTART;TZID=Etc/GMT+0:20250520T193000
DTEND;TZID=Etc/GMT+0:20250520T213000
X-ALT-DESC;FMTTYPE=TEXT/HTML:
CATEGORIES:General
URL;VALUE=URI:https://igbdsk.de/mc-events/ipsc-5/
METHOD:PUBLISH
END:VEVENT
END:VCALENDAR