BEGIN:VCALENDAR
VERSION:2.0
PRODID:spatie/icalendar-generator
DESCRIPTION:Veranstaltungen von IG BDS-Gruppe Kornwestheim
X-WR-CALDESC:Veranstaltungen von IG BDS-Gruppe Kornwestheim
REFRESH-INTERVAL;VALUE=DURATION:PT1440M
X-PUBLISHED-TTL:PT1440M
BEGIN:VTIMEZONE
TZID:Etc/GMT+0
BEGIN:STANDARD
DTSTART:20250207T193000Z
TZOFFSETFROM:+0000
TZOFFSETTO:+0000
END:STANDARD
END:VTIMEZONE
BEGIN:VTIMEZONE
TZID:UTC
BEGIN:STANDARD
DTSTART:20250727T223214Z
TZOFFSETFROM:+0000
TZOFFSETTO:+0000
END:STANDARD
END:VTIMEZONE
BEGIN:VEVENT
UID:47-47
DTSTAMP:20260423T223214Z
SUMMARY:Kurzwaffe &amp;amp\; Mehrdistanz
LOCATION:
ORGANIZER;CN=admin:MAILTO:igbdskheim@gmx.de
DTSTART;TZID=Etc/GMT+0:20251104T193000
DTEND;TZID=Etc/GMT+0:20251104T213000
X-ALT-DESC;FMTTYPE=TEXT/HTML:
CATEGORIES:General
URL;VALUE=URI:https://igbdsk.de/mc-events/kurzwaffe-mehrdistanz-11/
METHOD:PUBLISH
END:VEVENT
END:VCALENDAR