BEGIN:VCALENDAR
VERSION:2.0
PRODID:spatie/icalendar-generator
DESCRIPTION:Veranstaltungen von IG BDS-Gruppe Kornwestheim
X-WR-CALDESC:Veranstaltungen von IG BDS-Gruppe Kornwestheim
REFRESH-INTERVAL;VALUE=DURATION:PT1440M
X-PUBLISHED-TTL:PT1440M
BEGIN:VTIMEZONE
TZID:Etc/GMT+0
BEGIN:STANDARD
DTSTART:20240718T193000Z
TZOFFSETFROM:+0000
TZOFFSETTO:+0000
END:STANDARD
END:VTIMEZONE
BEGIN:VTIMEZONE
TZID:UTC
BEGIN:STANDARD
DTSTART:20250730T033446Z
TZOFFSETFROM:+0000
TZOFFSETTO:+0000
END:STANDARD
END:VTIMEZONE
BEGIN:VEVENT
UID:23-23
DTSTAMP:20260426T033446Z
SUMMARY:Kurzwaffe &amp;amp\; Mehrdistanz (nur Langwaffe)
LOCATION:
ORGANIZER;CN=admin:MAILTO:igbdskheim@gmx.de
DTSTART;TZID=Etc/GMT+0:20250414T193000
DTEND;TZID=Etc/GMT+0:20250414T213000
X-ALT-DESC;FMTTYPE=TEXT/HTML:Langwaffe KK &amp;amp\; Langwaffe Pistolenkaliber
CATEGORIES:General
URL;VALUE=URI:https://igbdsk.de/mc-events/kurzwaffe-mehrdistanz-nur-langwaf
 fe/
METHOD:PUBLISH
END:VEVENT
END:VCALENDAR